BEGIN:VCALENDAR
VERSION:2.0
PRODID:-//Freiw. Feuerwehr Flörsheim-Weilbach - ECPv6.15.20//NONSGML v1.0//EN
CALSCALE:GREGORIAN
METHOD:PUBLISH
X-WR-CALNAME:Freiw. Feuerwehr Flörsheim-Weilbach
X-ORIGINAL-URL:https://www.feuerwehr-weilbach.de
X-WR-CALDESC:Veranstaltungen für Freiw. Feuerwehr Flörsheim-Weilbach
REFRESH-INTERVAL;VALUE=DURATION:PT1H
X-Robots-Tag:noindex
X-PUBLISHED-TTL:PT1H
BEGIN:VTIMEZONE
TZID:Europe/Berlin
BEGIN:DAYLIGHT
TZOFFSETFROM:+0100
TZOFFSETTO:+0200
TZNAME:CEST
DTSTART:20230326T010000
END:DAYLIGHT
BEGIN:STANDARD
TZOFFSETFROM:+0200
TZOFFSETTO:+0100
TZNAME:CET
DTSTART:20231029T010000
END:STANDARD
BEGIN:DAYLIGHT
TZOFFSETFROM:+0100
TZOFFSETTO:+0200
TZNAME:CEST
DTSTART:20240331T010000
END:DAYLIGHT
BEGIN:STANDARD
TZOFFSETFROM:+0200
TZOFFSETTO:+0100
TZNAME:CET
DTSTART:20241027T010000
END:STANDARD
BEGIN:DAYLIGHT
TZOFFSETFROM:+0100
TZOFFSETTO:+0200
TZNAME:CEST
DTSTART:20250330T010000
END:DAYLIGHT
BEGIN:STANDARD
TZOFFSETFROM:+0200
TZOFFSETTO:+0100
TZNAME:CET
DTSTART:20251026T010000
END:STANDARD
END:VTIMEZONE
BEGIN:VEVENT
DTSTART;TZID=Europe/Berlin:20240901T100000
DTEND;TZID=Europe/Berlin:20240901T170000
DTSTAMP:20260423T161922
CREATED:20240401T100143Z
LAST-MODIFIED:20240803T092738Z
UID:4097-1725184800-1725210000@www.feuerwehr-weilbach.de
SUMMARY:Tag der offenen Tür 2024
DESCRIPTION:Die Freiwillige Feuerwehr Weilbach lädt alle Interessierte zu einem Tag der offenen Tür ein. \nSonntag\, 1. September 2024\, ab 10 Uhr\nFeuerwache Weilbach\, Floriansweg 1\nAuf Sie warten die Mitglieder der Feuerwehr Weilbach. Darüber hinaus haben wir Kinderprogramm\, leckeres Essen\, eine Schauübung und vieles mehr.  \nPlakat Tag der offenen Tür 2024_SCREEN
URL:https://www.feuerwehr-weilbach.de/termine/tag-der-offenen-tuer-2024/
LOCATION:Feuerwehrhaus\, Floriansweg 1\, Flörsheim am Main\, Hessen\, 65439\, Deutschland
CATEGORIES:Feuerwehrverein
ATTACH;FMTTYPE=image/jpeg:https://www.feuerwehr-weilbach.de/wp-content/uploads/2022/07/IMG_8594-scaled.jpeg
ORGANIZER;CN="Freiw. Feuerwehr Weilbach":MAILTO:info@feuerwehr-weilbach.com
END:VEVENT
BEGIN:VEVENT
DTSTART;TZID=Europe/Berlin:20240911T190000
DTEND;TZID=Europe/Berlin:20240911T210000
DTSTAMP:20260423T161922
CREATED:20240118T102743Z
LAST-MODIFIED:20240118T102743Z
UID:3733-1726081200-1726088400@www.feuerwehr-weilbach.de
SUMMARY:technischer Dienst/Sonderdienst
DESCRIPTION:Der regelmäßige technische Dienst der Feuerwehr Weilbach dient der Erhaltung der Einsatzfähigkeit\, Überprüfung von Gerätschaften und Maschinen.  \n➡️ Technischer Dienst/Sonderdienst\nTreffpunkt am Feuerwehrhaus\, Floriansweg 1.
URL:https://www.feuerwehr-weilbach.de/termine/technischer-dienst-sonderdienst-16/
LOCATION:Feuerwehrhaus\, Floriansweg 1\, Flörsheim am Main\, Hessen\, 65439\, Deutschland
CATEGORIES:Einsatzabteilung,technischer Dienst
ATTACH;FMTTYPE=image/jpeg:https://www.feuerwehr-weilbach.de/wp-content/uploads/2022/06/Schmuckgrafik-technischer-Dienst.jpg
ORGANIZER;CN="Freiw. Feuerwehr Weilbach":MAILTO:info@feuerwehr-weilbach.com
END:VEVENT
BEGIN:VEVENT
DTSTART;TZID=Europe/Berlin:20240925T190000
DTEND;TZID=Europe/Berlin:20240925T210000
DTSTAMP:20260423T161922
CREATED:20240118T102804Z
LAST-MODIFIED:20240118T102804Z
UID:3735-1727290800-1727298000@www.feuerwehr-weilbach.de
SUMMARY:technischer Dienst/Sonderdienst
DESCRIPTION:Der regelmäßige technische Dienst der Feuerwehr Weilbach dient der Erhaltung der Einsatzfähigkeit\, Überprüfung von Gerätschaften und Maschinen.  \n➡️ Technischer Dienst/Sonderdienst\nTreffpunkt am Feuerwehrhaus\, Floriansweg 1.
URL:https://www.feuerwehr-weilbach.de/termine/technischer-dienst-sonderdienst-17/
LOCATION:Feuerwehrhaus\, Floriansweg 1\, Flörsheim am Main\, Hessen\, 65439\, Deutschland
CATEGORIES:Einsatzabteilung,technischer Dienst
ATTACH;FMTTYPE=image/jpeg:https://www.feuerwehr-weilbach.de/wp-content/uploads/2022/06/Schmuckgrafik-technischer-Dienst.jpg
ORGANIZER;CN="Freiw. Feuerwehr Weilbach":MAILTO:info@feuerwehr-weilbach.com
END:VEVENT
BEGIN:VEVENT
DTSTART;TZID=Europe/Berlin:20240925T190000
DTEND;TZID=Europe/Berlin:20240925T210000
DTSTAMP:20260423T161922
CREATED:20240118T113937Z
LAST-MODIFIED:20240118T113937Z
UID:3815-1727290800-1727298000@www.feuerwehr-weilbach.de
SUMMARY:Sitzung der Gruppen- und Zugführer im Stadtgebiet
DESCRIPTION:Die Führungskräfte der Feuerwehren der Stadt Flörsheim am Main treffen sich regelmäßig. \n➡️ Sitzung der Gruppen- und Zugführer im Stadtgebiet\n 
URL:https://www.feuerwehr-weilbach.de/termine/sitzung-der-gruppen-und-zugfuehrer-im-stadtgebiet-2/
LOCATION:Feuerwehrhaus\, Floriansweg 1\, Flörsheim am Main\, Hessen\, 65439\, Deutschland
CATEGORIES:Einsatzabteilung,technischer Dienst
ATTACH;FMTTYPE=image/jpeg:https://www.feuerwehr-weilbach.de/wp-content/uploads/2024/01/IMG_6914-scaled.jpeg
ORGANIZER;CN="Freiw. Feuerwehr Weilbach":MAILTO:info@feuerwehr-weilbach.com
END:VEVENT
END:VCALENDAR