BEGIN:VCALENDAR
VERSION:2.0
PRODID:-//Freiw. Feuerwehr Flörsheim-Weilbach - ECPv6.15.20//NONSGML v1.0//EN
CALSCALE:GREGORIAN
METHOD:PUBLISH
X-ORIGINAL-URL:https://www.feuerwehr-weilbach.de
X-WR-CALDESC:Veranstaltungen für Freiw. Feuerwehr Flörsheim-Weilbach
REFRESH-INTERVAL;VALUE=DURATION:PT1H
X-Robots-Tag:noindex
X-PUBLISHED-TTL:PT1H
BEGIN:VTIMEZONE
TZID:Europe/Berlin
BEGIN:DAYLIGHT
TZOFFSETFROM:+0100
TZOFFSETTO:+0200
TZNAME:CEST
DTSTART:20230326T010000
END:DAYLIGHT
BEGIN:STANDARD
TZOFFSETFROM:+0200
TZOFFSETTO:+0100
TZNAME:CET
DTSTART:20231029T010000
END:STANDARD
BEGIN:DAYLIGHT
TZOFFSETFROM:+0100
TZOFFSETTO:+0200
TZNAME:CEST
DTSTART:20240331T010000
END:DAYLIGHT
BEGIN:STANDARD
TZOFFSETFROM:+0200
TZOFFSETTO:+0100
TZNAME:CET
DTSTART:20241027T010000
END:STANDARD
BEGIN:DAYLIGHT
TZOFFSETFROM:+0100
TZOFFSETTO:+0200
TZNAME:CEST
DTSTART:20250330T010000
END:DAYLIGHT
BEGIN:STANDARD
TZOFFSETFROM:+0200
TZOFFSETTO:+0100
TZNAME:CET
DTSTART:20251026T010000
END:STANDARD
END:VTIMEZONE
BEGIN:VEVENT
DTSTART;TZID=Europe/Berlin:20240703T190000
DTEND;TZID=Europe/Berlin:20240703T210000
DTSTAMP:20260423T132540
CREATED:20240118T113534Z
LAST-MODIFIED:20240118T113534Z
UID:3810-1720033200-1720040400@www.feuerwehr-weilbach.de
SUMMARY:technischer Dienst/Sonderdienst
DESCRIPTION:Der regelmäßige technische Dienst der Feuerwehr Weilbach dient der Erhaltung der Einsatzfähigkeit\, Überprüfung von Gerätschaften und Maschinen.  \n➡️ Technischer Dienst/Sonderdienst\nTreffpunkt am Feuerwehrhaus\, Floriansweg 1.
URL:https://www.feuerwehr-weilbach.de/termine/technischer-dienst-sonderdienst-23/
LOCATION:Feuerwehrhaus\, Floriansweg 1\, Flörsheim am Main\, Hessen\, 65439\, Deutschland
CATEGORIES:Einsatzabteilung,technischer Dienst
ATTACH;FMTTYPE=image/jpeg:https://www.feuerwehr-weilbach.de/wp-content/uploads/2022/06/Schmuckgrafik-technischer-Dienst.jpg
ORGANIZER;CN="Freiw. Feuerwehr Weilbach":MAILTO:info@feuerwehr-weilbach.com
END:VEVENT
BEGIN:VEVENT
DTSTART;TZID=Europe/Berlin:20240717T190000
DTEND;TZID=Europe/Berlin:20240717T210000
DTSTAMP:20260423T132540
CREATED:20240118T102623Z
LAST-MODIFIED:20240118T102623Z
UID:3725-1721242800-1721250000@www.feuerwehr-weilbach.de
SUMMARY:technischer Dienst/Sonderdienst
DESCRIPTION:Der regelmäßige technische Dienst der Feuerwehr Weilbach dient der Erhaltung der Einsatzfähigkeit\, Überprüfung von Gerätschaften und Maschinen.  \n➡️ Technischer Dienst/Sonderdienst\nTreffpunkt am Feuerwehrhaus\, Floriansweg 1.
URL:https://www.feuerwehr-weilbach.de/termine/technischer-dienst-sonderdienst-12/
LOCATION:Feuerwehrhaus\, Floriansweg 1\, Flörsheim am Main\, Hessen\, 65439\, Deutschland
CATEGORIES:Einsatzabteilung,technischer Dienst
ATTACH;FMTTYPE=image/jpeg:https://www.feuerwehr-weilbach.de/wp-content/uploads/2022/06/Schmuckgrafik-technischer-Dienst.jpg
ORGANIZER;CN="Freiw. Feuerwehr Weilbach":MAILTO:info@feuerwehr-weilbach.com
END:VEVENT
BEGIN:VEVENT
DTSTART;TZID=Europe/Berlin:20240724T190000
DTEND;TZID=Europe/Berlin:20240724T210000
DTSTAMP:20260423T132540
CREATED:20240118T111440Z
LAST-MODIFIED:20240118T111440Z
UID:3782-1721847600-1721854800@www.feuerwehr-weilbach.de
SUMMARY:regelmäßige Übung | Wasserförderung lange Wegstrecke
DESCRIPTION:Die nächste regelmäßige Übung der Feuerwehr Weilbach hat als Übungsschwerpunkt: \n➡️ Thema: Wasserförderung lange Wegstrecke\nTreffpunkt am Feuerwehrhaus\, Floriansweg 1.
URL:https://www.feuerwehr-weilbach.de/termine/regelmaessige-uebung-wasserfoerderung-lange-wegstrecke/
LOCATION:Feuerwehrhaus\, Floriansweg 1\, Flörsheim am Main\, Hessen\, 65439\, Deutschland
CATEGORIES:Einsatzabteilung,Übung
ATTACH;FMTTYPE=image/jpeg:https://www.feuerwehr-weilbach.de/wp-content/uploads/2022/06/Schmuckgrafik-Uebung.jpg
ORGANIZER;CN="Freiw. Feuerwehr Weilbach":MAILTO:info@feuerwehr-weilbach.com
END:VEVENT
BEGIN:VEVENT
DTSTART;TZID=Europe/Berlin:20240731T190000
DTEND;TZID=Europe/Berlin:20240731T210000
DTSTAMP:20260423T132540
CREATED:20240118T102643Z
LAST-MODIFIED:20240118T102643Z
UID:3727-1722452400-1722459600@www.feuerwehr-weilbach.de
SUMMARY:technischer Dienst/Sonderdienst
DESCRIPTION:Der regelmäßige technische Dienst der Feuerwehr Weilbach dient der Erhaltung der Einsatzfähigkeit\, Überprüfung von Gerätschaften und Maschinen.  \n➡️ Technischer Dienst/Sonderdienst\nTreffpunkt am Feuerwehrhaus\, Floriansweg 1.
URL:https://www.feuerwehr-weilbach.de/termine/technischer-dienst-sonderdienst-13/
LOCATION:Feuerwehrhaus\, Floriansweg 1\, Flörsheim am Main\, Hessen\, 65439\, Deutschland
CATEGORIES:Einsatzabteilung,technischer Dienst
ATTACH;FMTTYPE=image/jpeg:https://www.feuerwehr-weilbach.de/wp-content/uploads/2022/06/Schmuckgrafik-technischer-Dienst.jpg
ORGANIZER;CN="Freiw. Feuerwehr Weilbach":MAILTO:info@feuerwehr-weilbach.com
END:VEVENT
END:VCALENDAR