BEGIN:VCALENDAR
VERSION:2.0
PRODID:-//Freiw. Feuerwehr Flörsheim-Weilbach - ECPv6.15.20//NONSGML v1.0//EN
CALSCALE:GREGORIAN
METHOD:PUBLISH
X-ORIGINAL-URL:https://www.feuerwehr-weilbach.de
X-WR-CALDESC:Veranstaltungen für Freiw. Feuerwehr Flörsheim-Weilbach
REFRESH-INTERVAL;VALUE=DURATION:PT1H
X-Robots-Tag:noindex
X-PUBLISHED-TTL:PT1H
BEGIN:VTIMEZONE
TZID:Europe/Berlin
BEGIN:DAYLIGHT
TZOFFSETFROM:+0100
TZOFFSETTO:+0200
TZNAME:CEST
DTSTART:20230326T010000
END:DAYLIGHT
BEGIN:STANDARD
TZOFFSETFROM:+0200
TZOFFSETTO:+0100
TZNAME:CET
DTSTART:20231029T010000
END:STANDARD
BEGIN:DAYLIGHT
TZOFFSETFROM:+0100
TZOFFSETTO:+0200
TZNAME:CEST
DTSTART:20240331T010000
END:DAYLIGHT
BEGIN:STANDARD
TZOFFSETFROM:+0200
TZOFFSETTO:+0100
TZNAME:CET
DTSTART:20241027T010000
END:STANDARD
BEGIN:DAYLIGHT
TZOFFSETFROM:+0100
TZOFFSETTO:+0200
TZNAME:CEST
DTSTART:20250330T010000
END:DAYLIGHT
BEGIN:STANDARD
TZOFFSETFROM:+0200
TZOFFSETTO:+0100
TZNAME:CET
DTSTART:20251026T010000
END:STANDARD
END:VTIMEZONE
BEGIN:VEVENT
DTSTART;TZID=Europe/Berlin:20240113T080000
DTEND;TZID=Europe/Berlin:20240113T170000
DTSTAMP:20260422T115001
CREATED:20221217T181924Z
LAST-MODIFIED:20231229T174446Z
UID:2358-1705132800-1705165200@www.feuerwehr-weilbach.de
SUMMARY:Weihnachtsbäume werden abgeholt
DESCRIPTION:Die Feuerwehr Weilbach sammelt wieder die Weihnachtsbäume ein am Samstag\, dem 13. Januar 2024. Wir sind ab 8 Uhr in der Früh für Sie unterwegs. Für eine kleine Spende bedanken wir uns im Voraus. Mehr Details finden Sie hier
URL:https://www.feuerwehr-weilbach.de/termine/weihnachtsbaeume-werden-abgeholt/
ATTACH;FMTTYPE=image/jpeg:https://www.feuerwehr-weilbach.de/wp-content/uploads/2023/12/Kopie-von-Kopie-von-Freiw.-Feuerwehr-Weilbach-800-×-440-px.jpg
ORGANIZER;CN="Freiw. Feuerwehr Weilbach":MAILTO:info@feuerwehr-weilbach.com
END:VEVENT
BEGIN:VEVENT
DTSTART;TZID=Europe/Berlin:20240124T190000
DTEND;TZID=Europe/Berlin:20240124T210000
DTSTAMP:20260422T115001
CREATED:20240118T082710Z
LAST-MODIFIED:20240118T082710Z
UID:3697-1706122800-1706130000@www.feuerwehr-weilbach.de
SUMMARY:regelmäßige Übung | Fahrzeug- und Gerätekunde
DESCRIPTION:Die nächste regelmäßige Übung der Feuerwehr Weilbach hat als Übungsschwerpunkt: \n➡️ Thema: Fahrzeug- und Gerätekunde\nTreffpunkt am Feuerwehrhaus\, Floriansweg 1.
URL:https://www.feuerwehr-weilbach.de/termine/regelmaessige-uebung-fahrzeug-und-geraetekunde-2/
LOCATION:Feuerwehrhaus\, Floriansweg 1\, Flörsheim am Main\, Hessen\, 65439\, Deutschland
CATEGORIES:Einsatzabteilung,Übung
ATTACH;FMTTYPE=image/jpeg:https://www.feuerwehr-weilbach.de/wp-content/uploads/2022/06/Schmuckgrafik-Uebung.jpg
ORGANIZER;CN="Freiw. Feuerwehr Weilbach":MAILTO:info@feuerwehr-weilbach.com
END:VEVENT
BEGIN:VEVENT
DTSTART;TZID=Europe/Berlin:20240128T110000
DTEND;TZID=Europe/Berlin:20240128T130000
DTSTAMP:20260422T115001
CREATED:20240118T084441Z
LAST-MODIFIED:20240118T084441Z
UID:3701-1706439600-1706446800@www.feuerwehr-weilbach.de
SUMMARY:Neujahrsempfang 2024 der Feuerwehren der Stadt Flörsheim am Main
DESCRIPTION:Die Feuerwehren der Stadt Flörsheim am Main sind zum Neujahrsempfang nach Flörsheim eingeladen.  \nTreffpunkt am Feuerwehrhaus\, Floriansweg 1. Veranstaltung findet im Flörsheimer Feuerwehrhaus im Höllweg statt
URL:https://www.feuerwehr-weilbach.de/termine/neujahrsempfang-2024-der-feuerwehren-der-stadt-floersheim-am-main/
LOCATION:Feuerwehrhaus\, Floriansweg 1\, Flörsheim am Main\, Hessen\, 65439\, Deutschland
CATEGORIES:Einsatzabteilung
ATTACH;FMTTYPE=image/jpeg:https://www.feuerwehr-weilbach.de/wp-content/uploads/2023/03/IMG_2746-scaled.jpeg
ORGANIZER;CN="Freiw. Feuerwehr Weilbach":MAILTO:info@feuerwehr-weilbach.com
END:VEVENT
BEGIN:VEVENT
DTSTART;TZID=Europe/Berlin:20240131T190000
DTEND;TZID=Europe/Berlin:20240131T210000
DTSTAMP:20260422T115001
CREATED:20240118T082759Z
LAST-MODIFIED:20240118T084527Z
UID:3699-1706727600-1706734800@www.feuerwehr-weilbach.de
SUMMARY:technischer Dienst/Sonderdienst
DESCRIPTION:Der regelmäßige technische Dienst der Feuerwehr Weilbach dient der Erhaltung der Einsatzfähigkeit\, Überprüfung von Gerätschaften und Maschinen.  \n➡️ Technischer Dienst/Sonderdienst\nTreffpunkt am Feuerwehrhaus\, Floriansweg 1.
URL:https://www.feuerwehr-weilbach.de/termine/technischer-dienst-sonderdienst/
LOCATION:Feuerwehrhaus\, Floriansweg 1\, Flörsheim am Main\, Hessen\, 65439\, Deutschland
CATEGORIES:Einsatzabteilung,technischer Dienst
ATTACH;FMTTYPE=image/jpeg:https://www.feuerwehr-weilbach.de/wp-content/uploads/2022/06/Schmuckgrafik-technischer-Dienst.jpg
ORGANIZER;CN="Freiw. Feuerwehr Weilbach":MAILTO:info@feuerwehr-weilbach.com
END:VEVENT
END:VCALENDAR