BEGIN:VCALENDAR
VERSION:2.0
PRODID:-//Freiw. Feuerwehr Flörsheim-Weilbach - ECPv6.15.20//NONSGML v1.0//EN
CALSCALE:GREGORIAN
METHOD:PUBLISH
X-WR-CALNAME:Freiw. Feuerwehr Flörsheim-Weilbach
X-ORIGINAL-URL:https://www.feuerwehr-weilbach.de
X-WR-CALDESC:Veranstaltungen für Freiw. Feuerwehr Flörsheim-Weilbach
REFRESH-INTERVAL;VALUE=DURATION:PT1H
X-Robots-Tag:noindex
X-PUBLISHED-TTL:PT1H
BEGIN:VTIMEZONE
TZID:Europe/Berlin
BEGIN:DAYLIGHT
TZOFFSETFROM:+0100
TZOFFSETTO:+0200
TZNAME:CEST
DTSTART:20220327T010000
END:DAYLIGHT
BEGIN:STANDARD
TZOFFSETFROM:+0200
TZOFFSETTO:+0100
TZNAME:CET
DTSTART:20221030T010000
END:STANDARD
BEGIN:DAYLIGHT
TZOFFSETFROM:+0100
TZOFFSETTO:+0200
TZNAME:CEST
DTSTART:20230326T010000
END:DAYLIGHT
BEGIN:STANDARD
TZOFFSETFROM:+0200
TZOFFSETTO:+0100
TZNAME:CET
DTSTART:20231029T010000
END:STANDARD
BEGIN:DAYLIGHT
TZOFFSETFROM:+0100
TZOFFSETTO:+0200
TZNAME:CEST
DTSTART:20240331T010000
END:DAYLIGHT
BEGIN:STANDARD
TZOFFSETFROM:+0200
TZOFFSETTO:+0100
TZNAME:CET
DTSTART:20241027T010000
END:STANDARD
END:VTIMEZONE
BEGIN:VEVENT
DTSTART;TZID=Europe/Berlin:20231202T183000
DTEND;TZID=Europe/Berlin:20231202T233000
DTSTAMP:20260422T102323
CREATED:20230112T063542Z
LAST-MODIFIED:20230112T063542Z
UID:2620-1701541800-1701559800@www.feuerwehr-weilbach.de
SUMMARY:Familienabend der Feuerwehr Weilbach
DESCRIPTION:Die Feuerwehr Weilbach lädt alle Mitglieder der Einsatz-\, Alters- und Ehrenabteilung mit ihren Partnern zum Familienabend ein.  \n➡️ Familienabend\nTreffpunkt folgt
URL:https://www.feuerwehr-weilbach.de/termine/familienabend-der-feuerwehr-weilbach/
LOCATION:Feuerwehrhaus\, Floriansweg 1\, Flörsheim am Main\, Hessen\, 65439\, Deutschland
CATEGORIES:Einsatzabteilung
ATTACH;FMTTYPE=image/jpeg:https://www.feuerwehr-weilbach.de/wp-content/uploads/2023/01/Familienabend-scaled.jpg
ORGANIZER;CN="Freiw. Feuerwehr Weilbach":MAILTO:info@feuerwehr-weilbach.com
END:VEVENT
BEGIN:VEVENT
DTSTART;TZID=Europe/Berlin:20231206T190000
DTEND;TZID=Europe/Berlin:20231206T210000
DTSTAMP:20260422T102323
CREATED:20230111T172709Z
LAST-MODIFIED:20230111T172709Z
UID:2601-1701889200-1701896400@www.feuerwehr-weilbach.de
SUMMARY:technischer Dienst
DESCRIPTION:Der regelmäßige technische Dienst der Feuerwehr Weilbach dient der Erhaltung der Einsatzfähigkeit\, Überprüfung von Gerätschaften und Maschinen.  \n➡️ Technischer Dienst\nTreffpunkt am Feuerwehrhaus\, Floriansweg 1.
URL:https://www.feuerwehr-weilbach.de/termine/technischer-dienst-30/
LOCATION:Feuerwehrhaus\, Floriansweg 1\, Flörsheim am Main\, Hessen\, 65439\, Deutschland
CATEGORIES:Einsatzabteilung,technischer Dienst
ATTACH;FMTTYPE=image/jpeg:https://www.feuerwehr-weilbach.de/wp-content/uploads/2022/06/Schmuckgrafik-technischer-Dienst.jpg
ORGANIZER;CN="Freiw. Feuerwehr Weilbach":MAILTO:info@feuerwehr-weilbach.com
END:VEVENT
BEGIN:VEVENT
DTSTART;TZID=Europe/Berlin:20231209T140000
DTEND;TZID=Europe/Berlin:20231209T210000
DTSTAMP:20260422T102323
CREATED:20231204T091303Z
LAST-MODIFIED:20231204T091303Z
UID:3615-1702130400-1702155600@www.feuerwehr-weilbach.de
SUMMARY:„Advent am Bach“ – beim Weilbacher Adventsmarkt
DESCRIPTION:„Advent am Bach“ – beim Weilbacher Adventsmarkt am 09.12. steht wieder „die Weilbach in Flammen“\nRund um das Haus am Weilbach wird es auch in diesem Jahr am 2. Adventssamstag wieder heimelig\, wenn der Weilbacher Adventsmarkt „Advent am Bach“ erneut seine Pforten öffnet. Bereits ab 10 Uhr wird der Platz für den Straßenverkehr gesperrt und die Marktteilnehmer beginnen mit dem Aufbau der Stände. Organisiert vom Vereinsring Weilbach eV sind so einige Weilbacher Vereine vertreten\, die mit viel Mühe und Einfallsreichtum ihre Stände schmücken\, um eine weihnachtliche Atmos­phäre zu schaffen. Doch auch die Vereine ohne eigene Verkaufsstände unterstützen den Vereinsring bei der Organisation und Durchführung der alljährlichen Ver­an­staltung. So ist z.B. die Old Company wieder zuständig für die Strom­ver­sorgung und Verkabelung der Marktteilnehmer\, der Schützenverein hilft beim Aufbau und der Beschaffung benötigten Materials. \nHungrige Mäuler und durstige Kehlen kommen ab 14 Uhr bis in die späten Abendstunden sicher auf ihre Kosten\, denn das kulinarische Adventsmarkt-Angebot kann sich sehen lassen: Leckere Grillspezialitäten und weißen Glühwein von Bauer Flach\, frisches Raclette-Brot und heißer Äppler von den Weilbacher Kerbeborsch. Die Sängervereinigung bietet in diesem Jahr die „Pilzpfanne von Hanne“ zu ihrem guten Winzerglühwein an und bei der Kinder­tages­stätte „Pusteblume“ bekommen die Besucher Plätzchen\, Glühäppler und frische Waffeln. Selbstgemachte Marmeladen und Liköre finden sich im Sortiment der Weilbacher Landfrauen und die Germania Weilbach verzaubert mit einer Feuerzangenbowle und Brezeln. Eine deftige Erbsensuppe aus der Gulaschkanone kocht die Freiwillige Feuerwehr Weilbach. Der Eintracht Fanclub „Fuchselöcher“ ist ebenfalls mit aromatischem Weihnachtsbier vertreten. \nWie jedes Jahr ist das Haus am Weilbach den Künstlern vorbehalten: Hier kann man wunderschöne Malereien und außergewöhnliche handgefertigte Schmuckstücke bewundern und natürlich auch käuflich erwerben. Schließlich ist es nicht mehr lange bis Weihnachten\, und wer noch nicht alle Geschenke beisammen hat\, sollte unbedingt einmal vorbeischauen! Die Chorkinder der Kindertagesstätte Pusteblume singen um 16.30 Uhr und die Chor-AG der Grundschule am Weilbach hat um 17 Uhr ihren großen Auftritt\, bevor um 17.30 Uhr der Nikolaus kommt\, der für jedes brave Kind ein kleines Geschenk in seinem Sack dabeihat. \nDas Spektakel „die Weilbach in Flammen“ der Freiwilligen Feuerwehr wird um 18 Uhr als Höhepunkt des diesjährigen Adventsmarktes die Zuschauer in seinen Bann ziehen. Wenn dann die Bach wieder erloschen ist\, bleibt den Gästen noch lange Zeit\, in netter Gesellschaft die kulinarischen Köstlichkeiten zu genießen. „Advent am Bach“ gibt’s ja schließlich nur einmal im Jahr.                   
URL:https://www.feuerwehr-weilbach.de/termine/advent-am-bach-beim-weilbacher-adventsmarkt/
LOCATION:Haus am Weilbach\, Bachstraße 2a\, Flörsheim am Main\, Hessen\, 65439\, Deutschland
CATEGORIES:Feuerwehrverein
ATTACH;FMTTYPE=image/jpeg:https://www.feuerwehr-weilbach.de/wp-content/uploads/2023/12/cd9d0a2f-00a7-4dec-97cd-784266107f2d.jpg
ORGANIZER;CN="Freiw. Feuerwehr Weilbach":MAILTO:info@feuerwehr-weilbach.com
END:VEVENT
BEGIN:VEVENT
DTSTART;TZID=Europe/Berlin:20231213T190000
DTEND;TZID=Europe/Berlin:20231213T210000
DTSTAMP:20260422T102323
CREATED:20230111T172826Z
LAST-MODIFIED:20230111T172826Z
UID:2603-1702494000-1702501200@www.feuerwehr-weilbach.de
SUMMARY:regelmäßige Übung | Abschlussübung
DESCRIPTION:Die nächste regelmäßige Übung der Feuerwehr Weilbach hat als Übungsschwerpunkt: \n➡️ Thema: Abschlussübung\nTreffpunkt am Feuerwehrhaus\, Floriansweg 1.
URL:https://www.feuerwehr-weilbach.de/termine/regelmaessige-uebung-abschlussuebung-2/
LOCATION:Feuerwehrhaus\, Floriansweg 1\, Flörsheim am Main\, Hessen\, 65439\, Deutschland
CATEGORIES:Einsatzabteilung,Übung
ATTACH;FMTTYPE=image/jpeg:https://www.feuerwehr-weilbach.de/wp-content/uploads/2022/06/Schmuckgrafik-Uebung.jpg
ORGANIZER;CN="Freiw. Feuerwehr Weilbach":MAILTO:info@feuerwehr-weilbach.com
END:VEVENT
BEGIN:VEVENT
DTSTART;TZID=Europe/Berlin:20231220T190000
DTEND;TZID=Europe/Berlin:20231220T210000
DTSTAMP:20260422T102323
CREATED:20230111T172845Z
LAST-MODIFIED:20230111T172845Z
UID:2605-1703098800-1703106000@www.feuerwehr-weilbach.de
SUMMARY:technischer Dienst
DESCRIPTION:Der regelmäßige technische Dienst der Feuerwehr Weilbach dient der Erhaltung der Einsatzfähigkeit\, Überprüfung von Gerätschaften und Maschinen.  \n➡️ Technischer Dienst\nTreffpunkt am Feuerwehrhaus\, Floriansweg 1.
URL:https://www.feuerwehr-weilbach.de/termine/technischer-dienst-31/
LOCATION:Feuerwehrhaus\, Floriansweg 1\, Flörsheim am Main\, Hessen\, 65439\, Deutschland
CATEGORIES:Einsatzabteilung,technischer Dienst
ATTACH;FMTTYPE=image/jpeg:https://www.feuerwehr-weilbach.de/wp-content/uploads/2022/06/Schmuckgrafik-technischer-Dienst.jpg
ORGANIZER;CN="Freiw. Feuerwehr Weilbach":MAILTO:info@feuerwehr-weilbach.com
END:VEVENT
END:VCALENDAR