BEGIN:VCALENDAR
VERSION:2.0
PRODID:-//Freiw. Feuerwehr Flörsheim-Weilbach - ECPv6.15.20//NONSGML v1.0//EN
CALSCALE:GREGORIAN
METHOD:PUBLISH
X-WR-CALNAME:Freiw. Feuerwehr Flörsheim-Weilbach
X-ORIGINAL-URL:https://www.feuerwehr-weilbach.de
X-WR-CALDESC:Veranstaltungen für Freiw. Feuerwehr Flörsheim-Weilbach
REFRESH-INTERVAL;VALUE=DURATION:PT1H
X-Robots-Tag:noindex
X-PUBLISHED-TTL:PT1H
BEGIN:VTIMEZONE
TZID:Europe/Berlin
BEGIN:DAYLIGHT
TZOFFSETFROM:+0100
TZOFFSETTO:+0200
TZNAME:CEST
DTSTART:20250330T010000
END:DAYLIGHT
BEGIN:STANDARD
TZOFFSETFROM:+0200
TZOFFSETTO:+0100
TZNAME:CET
DTSTART:20251026T010000
END:STANDARD
BEGIN:DAYLIGHT
TZOFFSETFROM:+0100
TZOFFSETTO:+0200
TZNAME:CEST
DTSTART:20260329T010000
END:DAYLIGHT
BEGIN:STANDARD
TZOFFSETFROM:+0200
TZOFFSETTO:+0100
TZNAME:CET
DTSTART:20261025T010000
END:STANDARD
BEGIN:DAYLIGHT
TZOFFSETFROM:+0100
TZOFFSETTO:+0200
TZNAME:CEST
DTSTART:20270328T010000
END:DAYLIGHT
BEGIN:STANDARD
TZOFFSETFROM:+0200
TZOFFSETTO:+0100
TZNAME:CET
DTSTART:20271031T010000
END:STANDARD
END:VTIMEZONE
BEGIN:VEVENT
DTSTART;TZID=Europe/Berlin:20260326T190000
DTEND;TZID=Europe/Berlin:20260326T213000
DTSTAMP:20260423T120958
CREATED:20240118T113208Z
LAST-MODIFIED:20251217T121209Z
UID:3804-1774551600-1774560600@www.feuerwehr-weilbach.de
SUMMARY:Jahreshauptversammlung Feuerwehren der Stadt Flörsheim am Main
DESCRIPTION:Die Feuerwehren der Stadt Flörsheim am Main tagen zu ihrer jährlichen Jahreshauptversammlung im Stadtgebiet.
URL:https://www.feuerwehr-weilbach.de/termine/jahreshauptversammlung-feuerwehren-der-stadt-floersheim-am-main/
LOCATION:Feuerwehrhaus\, Floriansweg 1\, Flörsheim am Main\, Hessen\, 65439\, Deutschland
CATEGORIES:Einsatzabteilung
ATTACH;FMTTYPE=image/jpeg:https://www.feuerwehr-weilbach.de/wp-content/uploads/2024/01/Bildschirmfoto-2024-01-18-um-12.31.13-scaled.jpg
ORGANIZER;CN="Freiw. Feuerwehr Weilbach":MAILTO:info@feuerwehr-weilbach.com
END:VEVENT
END:VCALENDAR