BEGIN:VCALENDAR
VERSION:2.0
PRODID:-//Freiw. Feuerwehr Flörsheim-Weilbach - ECPv6.15.20//NONSGML v1.0//EN
CALSCALE:GREGORIAN
METHOD:PUBLISH
X-WR-CALNAME:Freiw. Feuerwehr Flörsheim-Weilbach
X-ORIGINAL-URL:https://www.feuerwehr-weilbach.de
X-WR-CALDESC:Veranstaltungen für Freiw. Feuerwehr Flörsheim-Weilbach
REFRESH-INTERVAL;VALUE=DURATION:PT1H
X-Robots-Tag:noindex
X-PUBLISHED-TTL:PT1H
BEGIN:VTIMEZONE
TZID:Europe/Berlin
BEGIN:DAYLIGHT
TZOFFSETFROM:+0100
TZOFFSETTO:+0200
TZNAME:CEST
DTSTART:20250330T010000
END:DAYLIGHT
BEGIN:STANDARD
TZOFFSETFROM:+0200
TZOFFSETTO:+0100
TZNAME:CET
DTSTART:20251026T010000
END:STANDARD
BEGIN:DAYLIGHT
TZOFFSETFROM:+0100
TZOFFSETTO:+0200
TZNAME:CEST
DTSTART:20260329T010000
END:DAYLIGHT
BEGIN:STANDARD
TZOFFSETFROM:+0200
TZOFFSETTO:+0100
TZNAME:CET
DTSTART:20261025T010000
END:STANDARD
BEGIN:DAYLIGHT
TZOFFSETFROM:+0100
TZOFFSETTO:+0200
TZNAME:CEST
DTSTART:20270328T010000
END:DAYLIGHT
BEGIN:STANDARD
TZOFFSETFROM:+0200
TZOFFSETTO:+0100
TZNAME:CET
DTSTART:20271031T010000
END:STANDARD
END:VTIMEZONE
BEGIN:VEVENT
DTSTART;TZID=Europe/Berlin:20260221T110000
DTEND;TZID=Europe/Berlin:20260221T130000
DTSTAMP:20260421T200220
CREATED:20251217T121640Z
LAST-MODIFIED:20251217T121640Z
UID:5967-1771671600-1771678800@www.feuerwehr-weilbach.de
SUMMARY:Spatenstich für den Neubau des Feuerwehrhauses Wicker
DESCRIPTION:Spatenstich für den Neubau des Feuerwehrhauses Wicker\nNeubau Feuerwehrhaus Wicker\nDie Baugenehmigung für das Bauvorhaben „Feuerwehrhaus Wicker“ wurde im April 2025 erteilt\, die Erschließungsarbeiten beginnen im Dezember 2025. Auf Basis von Planungsgesprächen\, des Vorabzuges des Bebauungsplanes\, den Erkenntnissen aus den Leitungsauskünften und den weiteren Unterlagen wurde der Planungsstand „V 5“ entwickelt. Dieser wurde im April 2024 den städtischen Vertretern aus Stadtplanung\, Hochbau und Feuerwehr vorgestellt. Die wesentlichen Punkte sind die eingeflossenen Änderungen der Flächen\, Konstruktionsfreiräume für die haustechnischen Anlagen und die Höhenanordnung des Gebäudes auf Grund der Geländesituation. \nDie Basisdaten sind folgende: \n\nGrundstücksgröße: 4.739 Quadratmeter\nGrundfläche Gebäude: 1.120\,68 Quadratmeter\nUmbauter Raum: 9.358\,41 Kubikmeter\n\nDas Nutzungsprofil ergibt sich aus den Planungsanforderungen und umfasst: \n\nSozialräume (Bereitschaftsraum\, Küche\, Verwaltung\, Sanitäranlagen\, Umkleideräume)\nLager / Werkstätten\nFunktionsfläche (Wartung\, Pflege\, Trocknung)\nSchulungsräume (Aus- und Fortbildung / Jugendraum)\nÜbungsfläche im Freigelände\nStellplätze für Einsatzfahrzeuge (Stellplatzgröße 3): 6\nParkplätze für Einsatzkräfte: 36\nParkplätze für angrenzende Nutzer (DRK): 19\n\nDas Grundstück befindet sich an einer Bundesstraße. Für die Nutzung des Gebäudes erfolgt die verkehrstechnische Anbindung über den Prälat-Müller-Weg. Für den Einsatzfall ist vorgesehen\, dass die Zu- und Ausfahrt über die Bundesstraße erfolgt.
URL:https://www.feuerwehr-weilbach.de/termine/spatenstich-fuer-den-neubau-des-feuerwehrhauses-wicker/
CATEGORIES:Einsatzabteilung,Feuerwehrverein
ATTACH;FMTTYPE=image/jpeg:https://www.feuerwehr-weilbach.de/wp-content/uploads/2025/12/Bildschirmfoto-2025-12-17-um-13.13.29.jpg
END:VEVENT
END:VCALENDAR