BEGIN:VCALENDAR
VERSION:2.0
PRODID:-//Freiw. Feuerwehr Flörsheim-Weilbach - ECPv6.15.20//NONSGML v1.0//EN
CALSCALE:GREGORIAN
METHOD:PUBLISH
X-ORIGINAL-URL:https://www.feuerwehr-weilbach.de
X-WR-CALDESC:Veranstaltungen für Freiw. Feuerwehr Flörsheim-Weilbach
REFRESH-INTERVAL;VALUE=DURATION:PT1H
X-Robots-Tag:noindex
X-PUBLISHED-TTL:PT1H
BEGIN:VTIMEZONE
TZID:Europe/Berlin
BEGIN:DAYLIGHT
TZOFFSETFROM:+0100
TZOFFSETTO:+0200
TZNAME:CEST
DTSTART:20250330T010000
END:DAYLIGHT
BEGIN:STANDARD
TZOFFSETFROM:+0200
TZOFFSETTO:+0100
TZNAME:CET
DTSTART:20251026T010000
END:STANDARD
BEGIN:DAYLIGHT
TZOFFSETFROM:+0100
TZOFFSETTO:+0200
TZNAME:CEST
DTSTART:20260329T010000
END:DAYLIGHT
BEGIN:STANDARD
TZOFFSETFROM:+0200
TZOFFSETTO:+0100
TZNAME:CET
DTSTART:20261025T010000
END:STANDARD
BEGIN:DAYLIGHT
TZOFFSETFROM:+0100
TZOFFSETTO:+0200
TZNAME:CEST
DTSTART:20270328T010000
END:DAYLIGHT
BEGIN:STANDARD
TZOFFSETFROM:+0200
TZOFFSETTO:+0100
TZNAME:CET
DTSTART:20271031T010000
END:STANDARD
END:VTIMEZONE
BEGIN:VEVENT
DTSTART;TZID=Europe/Berlin:20260110T080000
DTEND;TZID=Europe/Berlin:20260110T170000
DTSTAMP:20260423T133953
CREATED:20250105T114059Z
LAST-MODIFIED:20251212T051639Z
UID:4811-1768032000-1768064400@www.feuerwehr-weilbach.de
SUMMARY:Weihnachtsbäume werden abgeholt
DESCRIPTION:Am Samstag\, 10. Januar 2026\, sammeln die Jugendfeuerwehren im gesamten Flörsheimer Stadtgebiet die ausgedienten Weihnachtsbäume ein. \nDie abgeschmückten Bäume sollten bis spätestens 8 Uhr am Straßenrand bereitgestellt werden. Die Mitglieder der Jugendfeuerwehren gehen anschließend durch die Straßen und verladen die Bäume mit Unterstützung der Aktiven der Einsatzabteilungen auf Traktoren mit Anhängern. Die Bäume werden dann der fachgerechten Verwertung zugeführt. \nDie Jugendfeuerwehren bieten diesen Service kostenlos an\, freuen sich jedoch über Spenden\, die der Arbeit des Brandschützer-Nachwuchses unmittelbar zu Gute kommen. Spenden sollen bitte nicht an die Weihnachtsbäume gehängt\, sondern den Jugendfeuerwehrleuten persönlich übergeben werden. \nAlternativ kann die Spende auch direkt auf die Konten der Feuerwehrvereine überwiesen werden. Die Bankverbindungen der Feuerwehren sind: \nFeuerwehr Flörsheim-Weilbach: \n\nBank: Taunus-Sparkasse (BIC HELADEF1TSK)\nIBAN: DE46 5125 0000 0036 4053 50\nKontakt für Zuwendungsbescheinigungen/Spendenquittungen (ab einer Spendenhöhe von 200 €): info [at] feuerwehr-weilbach [dot] com\n\nNoch ein Hinweis: Die gelben Säcke werden an diesem Samstag durch die Jugendfeuerwehrmitglieder direkt an die Weilbacher Haushalte verteilt. Dort können Sie auch Ihre Spende entrichten.  \nDie Jugendfeuerwehren der Stadt Flörsheim am Main wünschen allen Bürgerinnen und Bürgern einen guten Rutsch ins neue Jahr und viel Glück und Gesundheit für 2026!
URL:https://www.feuerwehr-weilbach.de/termine/weihnachtsbaeume-werden-abgeholt-2/
CATEGORIES:Jugendfeuerwehr
ATTACH;FMTTYPE=image/jpeg:https://www.feuerwehr-weilbach.de/wp-content/uploads/2025/01/Kopie-von-Kopie-von-Freiw.-Feuerwehr-Weilbach-800-×-440-px-1.jpg
ORGANIZER;CN="Freiw. Feuerwehr Weilbach":MAILTO:info@feuerwehr-weilbach.com
END:VEVENT
END:VCALENDAR